BEGIN:VCALENDAR
VERSION:2.0
PRODID:-//Tukios.com/
BEGIN:VEVENT
UID:3fba6548-5717-4196-a23e-e06ba18f1de7@www.boersmafuneralhome.com
DTSTAMP:20260420T034410Z
DTSTART:20260611T220000Z
DTEND:20260611T230000Z
SUMMARY:Celebration of Life
DESCRIPTION:
URL:https://www.boersmafuneralhome.com/obituaries/robert-heid
LOCATION:DeMotte United Methodist Church 227 N Halleck St  De Motte IN 
	46310
GEO:41.2040867;-87.1980907
END:VEVENT
END:VCALENDAR