BEGIN:VCALENDAR
VERSION:2.0
PRODID:-//Tukios.com/
BEGIN:VEVENT
UID:948c7d1e-5ba9-4843-8ff5-e0f766307e45@www.boersmafuneralhome.com
DTSTAMP:20260420T034243Z
DTSTART:20260611T230000Z
DTEND:20260612T000000Z
SUMMARY:Funeral Service
DESCRIPTION:
URL:https://www.boersmafuneralhome.com/obituaries/robert-heid
LOCATION:DeMotte United Methodist Church 227 N Halleck St  De Motte IN 
	46310
GEO:41.2040867;-87.1980907
END:VEVENT
END:VCALENDAR