BEGIN:VCALENDAR
VERSION:2.0
PRODID:-//Tukios.com/
BEGIN:VEVENT
UID:7ca03625-8892-47aa-823e-12ac510d266b@www.boersmafuneralhome.com
DTSTAMP:20260420T221548Z
DTSTART:20260423T173000Z
DTEND:20260423T203000Z
SUMMARY:Visitation
DESCRIPTION:
URL:https://www.boersmafuneralhome.com/obituaries/wilbert-hamstra
LOCATION:First Church 5387 West State Road 10  Wheatfield IN 46392
GEO:41.1854942;-87.1487569
END:VEVENT
END:VCALENDAR