BEGIN:VCALENDAR
VERSION:2.0
PRODID:-//Tukios.com/
BEGIN:VEVENT
UID:4ea3ac58-0b9f-46f4-9396-3c3678281268@www.boersmafuneralhome.com
DTSTAMP:20260420T221403Z
DTSTART:20260423T203000Z
DTEND:20260423T213000Z
SUMMARY:Funeral Service
DESCRIPTION:
URL:https://www.boersmafuneralhome.com/obituaries/wilbert-hamstra
LOCATION:First Church 5387 West State Road 10  Wheatfield IN 46392
GEO:41.1854942;-87.1487569
END:VEVENT
END:VCALENDAR